BEGIN:VCALENDAR
VERSION:2.0
PRODID:-//SPÖ Lasberg - ECPv6.15.20//NONSGML v1.0//EN
CALSCALE:GREGORIAN
METHOD:PUBLISH
X-WR-CALNAME:SPÖ Lasberg
X-ORIGINAL-URL:https://lasberg.spooe.at
X-WR-CALDESC:Veranstaltungen für SPÖ Lasberg
REFRESH-INTERVAL;VALUE=DURATION:PT1H
X-Robots-Tag:noindex
X-PUBLISHED-TTL:PT1H
BEGIN:VTIMEZONE
TZID:Europe/Vienna
BEGIN:DAYLIGHT
TZOFFSETFROM:+0100
TZOFFSETTO:+0200
TZNAME:CEST
DTSTART:20210328T010000
END:DAYLIGHT
BEGIN:STANDARD
TZOFFSETFROM:+0200
TZOFFSETTO:+0100
TZNAME:CET
DTSTART:20211031T010000
END:STANDARD
BEGIN:DAYLIGHT
TZOFFSETFROM:+0100
TZOFFSETTO:+0200
TZNAME:CEST
DTSTART:20220327T010000
END:DAYLIGHT
BEGIN:STANDARD
TZOFFSETFROM:+0200
TZOFFSETTO:+0100
TZNAME:CET
DTSTART:20221030T010000
END:STANDARD
BEGIN:DAYLIGHT
TZOFFSETFROM:+0100
TZOFFSETTO:+0200
TZNAME:CEST
DTSTART:20230326T010000
END:DAYLIGHT
BEGIN:STANDARD
TZOFFSETFROM:+0200
TZOFFSETTO:+0100
TZNAME:CET
DTSTART:20231029T010000
END:STANDARD
END:VTIMEZONE
BEGIN:VEVENT
DTSTART;TZID=Europe/Vienna:20220501T100000
DTEND;TZID=Europe/Vienna:20220501T150000
DTSTAMP:20260420T170430
CREATED:20220329T114157Z
LAST-MODIFIED:20220406T140646Z
UID:636-1651399200-1651417200@lasberg.spooe.at
SUMMARY:1.Mai-Kundgebung in Freistadt
DESCRIPTION:
URL:https://lasberg.spooe.at/termin/1-mai-kundgebung-in-freistadt/
LOCATION:Hauptplatz Freistadt\, Hauptplatz\, Freistadt\, Oberösterreich\, 4240\, Österreich
ATTACH;FMTTYPE=image/jpeg:https://lasberg.spooe.at/wp-content/uploads/sites/267/2022/03/2022_1Mai_Freistadt_hoch_DRUCK_v2.jpg
END:VEVENT
BEGIN:VEVENT
DTSTART;TZID=Europe/Vienna:20220508T103000
DTEND;TZID=Europe/Vienna:20220508T130000
DTSTAMP:20260420T170430
CREATED:20220310T204413Z
LAST-MODIFIED:20220416T124341Z
UID:629-1652005800-1652014800@lasberg.spooe.at
SUMMARY:Muttertagsaktion am Marktplatz
DESCRIPTION:Auch dieses Jahr haben wir wieder für die Mütter (und auch für die Töchter) wieder ein kleines Getränk nach dem Gottesdienst parat. \nWir freuen uns schon auf euren Besuch.
URL:https://lasberg.spooe.at/termin/muttertagsaktion-am-marktplatz/
LOCATION:Marktplatz Lasberg\, Markt\, Lasberg\, Oberösterreich\, 4291\, Österreich
ATTACH;FMTTYPE=image/jpeg:https://lasberg.spooe.at/wp-content/uploads/sites/267/2021/08/Logo_neu-scaled.jpg
ORGANIZER;CN="SP%C3%96 Lasberg":MAILTO:OO-Lasberg@spooe.at
END:VEVENT
END:VCALENDAR