BEGIN:VCALENDAR
VERSION:2.0
PRODID:-//SPÖ Lasberg - ECPv6.15.20//NONSGML v1.0//EN
CALSCALE:GREGORIAN
METHOD:PUBLISH
X-ORIGINAL-URL:https://lasberg.spooe.at
X-WR-CALDESC:Veranstaltungen für SPÖ Lasberg
REFRESH-INTERVAL;VALUE=DURATION:PT1H
X-Robots-Tag:noindex
X-PUBLISHED-TTL:PT1H
BEGIN:VTIMEZONE
TZID:Europe/Vienna
BEGIN:DAYLIGHT
TZOFFSETFROM:+0100
TZOFFSETTO:+0200
TZNAME:CEST
DTSTART:20200329T010000
END:DAYLIGHT
BEGIN:STANDARD
TZOFFSETFROM:+0200
TZOFFSETTO:+0100
TZNAME:CET
DTSTART:20201025T010000
END:STANDARD
BEGIN:DAYLIGHT
TZOFFSETFROM:+0100
TZOFFSETTO:+0200
TZNAME:CEST
DTSTART:20210328T010000
END:DAYLIGHT
BEGIN:STANDARD
TZOFFSETFROM:+0200
TZOFFSETTO:+0100
TZNAME:CET
DTSTART:20211031T010000
END:STANDARD
BEGIN:DAYLIGHT
TZOFFSETFROM:+0100
TZOFFSETTO:+0200
TZNAME:CEST
DTSTART:20220327T010000
END:DAYLIGHT
BEGIN:STANDARD
TZOFFSETFROM:+0200
TZOFFSETTO:+0100
TZNAME:CET
DTSTART:20221030T010000
END:STANDARD
END:VTIMEZONE
BEGIN:VEVENT
DTSTART;TZID=Europe/Vienna:20210901T180000
DTEND;TZID=Europe/Vienna:20210901T220000
DTSTAMP:20260421T083521
CREATED:20210713T074217Z
LAST-MODIFIED:20210902T142824Z
UID:385-1630519200-1630533600@lasberg.spooe.at
SUMMARY:ABGESAGT!!! Wochenteilen mit Regina in Elz
DESCRIPTION:Da der heutige Abend unserem Medaillengewinner Brungraber Florian gehört\, haben wir die Veranstaltung abgesagt. Wir gratulieren ihm sehr herzlich zu seiner grandiosen Leistung bei den Paralympics. Es wäre falsch gewesen\, eine Parallelveranstaltung abzuhalten.\n\n\nWir und Regina würden uns sehr freuen\, wenn wir alle\, die Regina gestern in Elz kennen lernen wollten\, am nächsten Mittwoch\, dem 8.September um 18.00 am Lasberger Marktplatz treffen können.\n\n\nDort habt ihr dann die Möglichkeit\, ein Plauscherl mit Regina nachzuholen.\n\n\n \n\n\nEure Regina und das Team der SPÖ Lasberg 🙂\n\nFacebook-Link:\nWochenteilen mit Regina in Elz
URL:https://lasberg.spooe.at/termin/wochenteilen-mit-regina-in-elz/
LOCATION:Zeindlinger\, Elz 46\, Lasberg\, Oberösterreich\, 4292\, Österreich
ATTACH;FMTTYPE=image/png:https://lasberg.spooe.at/wp-content/uploads/sites/267/2021/07/imageonline-co-watermarkedimage.png
ORGANIZER;CN="SP%C3%96 Lasberg":MAILTO:OO-Lasberg@spooe.at
END:VEVENT
BEGIN:VEVENT
DTSTART;TZID=Europe/Vienna:20210908T180000
DTEND;TZID=Europe/Vienna:20210908T220000
DTSTAMP:20260421T083521
CREATED:20210713T073946Z
LAST-MODIFIED:20210816T125029Z
UID:383-1631124000-1631138400@lasberg.spooe.at
SUMMARY:Wochenteilen mit Regina am Marktplatz
DESCRIPTION:Setzen wir uns zu einem gemütlichen Plauscherl bei einem Getränk und einem kleinen\nImbiss zusammen und lernen wir uns besser kennen! \nFacebook-Link:\nWochenteilen mit Regina am Marktplatz
URL:https://lasberg.spooe.at/termin/wochenteilen-mit-regina-am-marktplatz/
LOCATION:Marktplatz Lasberg\, Markt\, Lasberg\, Oberösterreich\, 4291\, Österreich
ATTACH;FMTTYPE=image/png:https://lasberg.spooe.at/wp-content/uploads/sites/267/2021/07/sharepic-2714-1629118154.png
ORGANIZER;CN="SP%C3%96 Lasberg":MAILTO:OO-Lasberg@spooe.at
END:VEVENT
BEGIN:VEVENT
DTSTART;TZID=Europe/Vienna:20210911T180000
DTEND;TZID=Europe/Vienna:20210912T000000
DTSTAMP:20260421T083521
CREATED:20210722T173642Z
LAST-MODIFIED:20210811T114803Z
UID:417-1631383200-1631404800@lasberg.spooe.at
SUMMARY:16. Lasberger Weinmeile
DESCRIPTION:Nach einer Corona-Pause wollen wir euch wieder sehr herzlich zur 16. Weinmeile in der Kernlandhalle einladen.\n\nLink zur Facebook-Veranstaltung:\n16. Lasberger Weinmeile
URL:https://lasberg.spooe.at/termin/16-lasberger-weinmeile/
LOCATION:Anbau der Kernlandhalle\, Sportplatz 1\, Lasberg\, Oberösterreich\, 4291\, Österreich
ATTACH;FMTTYPE=image/png:https://lasberg.spooe.at/wp-content/uploads/sites/267/2021/08/sharepic-2714-1628681707.png
ORGANIZER;CN="SP%C3%96 Lasberg":MAILTO:OO-Lasberg@spooe.at
END:VEVENT
END:VCALENDAR