BEGIN:VCALENDAR
VERSION:2.0
PRODID:-//SPÖ Lasberg - ECPv6.15.20//NONSGML v1.0//EN
CALSCALE:GREGORIAN
METHOD:PUBLISH
X-ORIGINAL-URL:https://lasberg.spooe.at
X-WR-CALDESC:Veranstaltungen für SPÖ Lasberg
REFRESH-INTERVAL;VALUE=DURATION:PT1H
X-Robots-Tag:noindex
X-PUBLISHED-TTL:PT1H
BEGIN:VTIMEZONE
TZID:Europe/Vienna
BEGIN:DAYLIGHT
TZOFFSETFROM:+0100
TZOFFSETTO:+0200
TZNAME:CEST
DTSTART:20200329T010000
END:DAYLIGHT
BEGIN:STANDARD
TZOFFSETFROM:+0200
TZOFFSETTO:+0100
TZNAME:CET
DTSTART:20201025T010000
END:STANDARD
BEGIN:DAYLIGHT
TZOFFSETFROM:+0100
TZOFFSETTO:+0200
TZNAME:CEST
DTSTART:20210328T010000
END:DAYLIGHT
BEGIN:STANDARD
TZOFFSETFROM:+0200
TZOFFSETTO:+0100
TZNAME:CET
DTSTART:20211031T010000
END:STANDARD
BEGIN:DAYLIGHT
TZOFFSETFROM:+0100
TZOFFSETTO:+0200
TZNAME:CEST
DTSTART:20220327T010000
END:DAYLIGHT
BEGIN:STANDARD
TZOFFSETFROM:+0200
TZOFFSETTO:+0100
TZNAME:CET
DTSTART:20221030T010000
END:STANDARD
END:VTIMEZONE
BEGIN:VEVENT
DTSTART;TZID=Europe/Vienna:20210804T180000
DTEND;TZID=Europe/Vienna:20210804T220000
DTSTAMP:20260421T095900
CREATED:20210713T073250Z
LAST-MODIFIED:20210811T122808Z
UID:372-1628100000-1628114400@lasberg.spooe.at
SUMMARY:Wochenteilen mit Regina beim Tscholl
DESCRIPTION:Setzen wir uns zu einem gemütlichen Plauscherl bei einem Getränk und einem kleinen\nImbiss zusammen und lernen wir uns besser kennen! \nFacebook-Link:\nWochenteilen mit Regina bei den Tscholls
URL:https://lasberg.spooe.at/termin/wochenteilen-mit-regina-beim-tscholl/
LOCATION:Tscholl\, Walchshof 30\, Lasberg\, Oberösterreich\, 4291\, Österreich
ATTACH;FMTTYPE=image/png:https://lasberg.spooe.at/wp-content/uploads/sites/267/2021/07/Wochenteilen-Tscholl.png
ORGANIZER;CN="SP%C3%96 Lasberg":MAILTO:OO-Lasberg@spooe.at
END:VEVENT
BEGIN:VEVENT
DTSTART;TZID=Europe/Vienna:20210807T100000
DTEND;TZID=Europe/Vienna:20210807T130000
DTSTAMP:20260421T095900
CREATED:20210713T074645Z
LAST-MODIFIED:20210722T181729Z
UID:391-1628330400-1628341200@lasberg.spooe.at
SUMMARY:Die rote Bierbank mit Lindner Michael
DESCRIPTION:SPÖ-Clubobmann und Bezirksvorsitzender Lindner Michael (wir erinnern\nuns noch: „der Grade Michl“) führt die\nSPÖ-Landtagsliste des Bezirks\nFreistadt an und es liegt ihm sehr viel\ndaran\, die Menschen im Bezirk näher\nkennenzulernen und direkt vor Ort\nvon ihnen zu hören\, wo sie der Schuh\ndrückt.\nEr tourt mit seiner „roten Bierbank“\ndurch den Bezirk und macht am\nSamstag\, dem 7.8.2021 von\n10.00—13.00 Uhr\nam Marktplatz\nStation. Schau auf ein gutes Gespräch\,\nein Getränk und einen Imbiss vorbei.\nWir freuen uns auf Dich! \nSchau auch gerne auf Facebook vorbei:\nDie rote Bierbank mit Michael Lindner
URL:https://lasberg.spooe.at/termin/die-rote-bierbank-mit-lindner-michael/
LOCATION:Marktplatz Lasberg\, Markt\, Lasberg\, Oberösterreich\, 4291\, Österreich
ATTACH;FMTTYPE=image/jpeg:https://lasberg.spooe.at/wp-content/uploads/sites/267/2021/07/Rote-Bierbank.jpg
END:VEVENT
BEGIN:VEVENT
DTSTART;TZID=Europe/Vienna:20210811T180000
DTEND;TZID=Europe/Vienna:20210811T220000
DTSTAMP:20260421T095900
CREATED:20210713T073611Z
LAST-MODIFIED:20210811T122246Z
UID:376-1628704800-1628719200@lasberg.spooe.at
SUMMARY:Wochenteilen mit Regina bei den Gratzls
DESCRIPTION:Setzen wir uns zu einem gemütlichen Plauscherl bei einem Getränk und einem kleinen\nImbiss zusammen und lernen wir uns besser kennen! \nFacebook-Link:\nWochenteilen mit Regina bei den Gratzls
URL:https://lasberg.spooe.at/termin/wochenteilen-mit-regina-bei-den-gratzls/
LOCATION:Gratzl\, Manzenreith 13\, Lasberg\, Oberösterreich\, 4240\, Österreich
ATTACH;FMTTYPE=image/png:https://lasberg.spooe.at/wp-content/uploads/sites/267/2021/07/Wochenteilen-Gratzl.png
ORGANIZER;CN="SP%C3%96 Lasberg":MAILTO:OO-Lasberg@spooe.at
END:VEVENT
BEGIN:VEVENT
DTSTART;TZID=Europe/Vienna:20210818T180000
DTEND;TZID=Europe/Vienna:20210818T220000
DTSTAMP:20260421T095900
CREATED:20210713T073816Z
LAST-MODIFIED:20210811T122215Z
UID:379-1629309600-1629324000@lasberg.spooe.at
SUMMARY:Wochenteilen mit Regina bei den Bauers
DESCRIPTION:Setzen wir uns zu einem gemütlichen Plauscherl bei einem Getränk und einem kleinen\nImbiss zusammen und lernen wir uns besser kennen! \nFacebook-Link:\nWochenteilen mit Regina bei den Bauers
URL:https://lasberg.spooe.at/termin/wochenteilen-mit-regina-bei-den-bauers/
LOCATION:Bauer\, Siegelsdorf 49\, Lasberg\, Oberösterreich\, 4292\, Österreich
ATTACH;FMTTYPE=image/png:https://lasberg.spooe.at/wp-content/uploads/sites/267/2021/07/Wochenteilen-Bauer.png
ORGANIZER;CN="SP%C3%96 Lasberg":MAILTO:OO-Lasberg@spooe.at
END:VEVENT
BEGIN:VEVENT
DTSTART;TZID=Europe/Vienna:20210825T180000
DTEND;TZID=Europe/Vienna:20210825T220000
DTSTAMP:20260421T095900
CREATED:20210713T074418Z
LAST-MODIFIED:20210816T123830Z
UID:388-1629914400-1629928800@lasberg.spooe.at
SUMMARY:Wochenteilen bei Regina
DESCRIPTION:Setzen wir uns zu einem gemütlichen Plauscherl bei einem Getränk und einem kleinen\nImbiss zusammen und lernen wir uns besser kennen! \nFacebook-Link:\nWochenteilen bei Regina
URL:https://lasberg.spooe.at/termin/wochenteilen-bei-regina/
LOCATION:Gunnersdorf\, Gunnersdorf 35\, Lasberg\, Oberösterreich\, 4291\, Österreich
ATTACH;FMTTYPE=image/png:https://lasberg.spooe.at/wp-content/uploads/sites/267/2021/07/sharepic-2714-1629116850.png
ORGANIZER;CN="SP%C3%96 Lasberg":MAILTO:OO-Lasberg@spooe.at
END:VEVENT
END:VCALENDAR